BEGIN:VCALENDAR
VERSION:2.0
PRODID:-//Kaksi Media - ECPv6.15.20//NONSGML v1.0//EN
CALSCALE:GREGORIAN
METHOD:PUBLISH
X-ORIGINAL-URL:https://kaksimedia.com
X-WR-CALDESC:Eventos para Kaksi Media
REFRESH-INTERVAL;VALUE=DURATION:PT1H
X-Robots-Tag:noindex
X-PUBLISHED-TTL:PT1H
BEGIN:VTIMEZONE
TZID:Europe/Lisbon
BEGIN:DAYLIGHT
TZOFFSETFROM:+0000
TZOFFSETTO:+0100
TZNAME:WEST
DTSTART:20240331T010000
END:DAYLIGHT
BEGIN:STANDARD
TZOFFSETFROM:+0100
TZOFFSETTO:+0000
TZNAME:WET
DTSTART:20241027T010000
END:STANDARD
BEGIN:DAYLIGHT
TZOFFSETFROM:+0000
TZOFFSETTO:+0100
TZNAME:WEST
DTSTART:20250330T010000
END:DAYLIGHT
BEGIN:STANDARD
TZOFFSETFROM:+0100
TZOFFSETTO:+0000
TZNAME:WET
DTSTART:20251026T010000
END:STANDARD
BEGIN:DAYLIGHT
TZOFFSETFROM:+0000
TZOFFSETTO:+0100
TZNAME:WEST
DTSTART:20260329T010000
END:DAYLIGHT
BEGIN:STANDARD
TZOFFSETFROM:+0100
TZOFFSETTO:+0000
TZNAME:WET
DTSTART:20261025T010000
END:STANDARD
END:VTIMEZONE
BEGIN:VEVENT
DTSTART;TZID=Europe/Lisbon:20250806T163000
DTEND;TZID=Europe/Lisbon:20250806T171500
DTSTAMP:20260422T113332
CREATED:20250804T090816Z
LAST-MODIFIED:20250805T160735Z
UID:10000028-1754497800-1754500500@kaksimedia.com
SUMMARY:Mini formación online: Estudiar con ChatGPT – el nuevo Study Mode
DESCRIPTION:ChatGPT acaba de lanzar un nuevo modo pensado especialmente para docentes.En esta sesión breve y práctica\, exploraremos el Study Mode\, una funcionalidad diseñada para facilitar el aprendizaje con inteligencia artificial: \n\n\n\n\nCrear resúmenes y explicaciones paso a paso\n\n\n\nGenerar quizzes (preguntas tipo test) y flashcards (tarjetas de memoria)\n\n\n\nUsar ChatGPT de forma más estructurada para estudiar y enseñar\n\n\n\n\n📌 Ideal para quienes ya usan ChatGPT o quieren empezar a aplicarlo en el ámbito educativo.🎯 Actividad gratuita y abierta a todos los interesados. \n\n\n\n👉 Si quieres participar\, contáctanos.Informações de participação do Google MeetLink da videochamada: https://meet.google.com/wun-xoou-quz
URL:https://kaksimedia.com/evento/mini-formacion-online-estudiar-con-chatgpt-el-nuevo-study-mode/
LOCATION:Online – Google Meet
ATTACH;FMTTYPE=image/jpeg:https://kaksimedia.com/wp-content/uploads/2025/08/Mini-formacion-online-Estudiar-con-ChatGPT-–-el-nuevo-Study-Mode.jpg
END:VEVENT
END:VCALENDAR