BEGIN:VCALENDAR
VERSION:2.0
PRODID:-//Kaksi Media - ECPv6.15.20//NONSGML v1.0//EN
CALSCALE:GREGORIAN
METHOD:PUBLISH
X-ORIGINAL-URL:https://kaksimedia.com
X-WR-CALDESC:Eventos para Kaksi Media
REFRESH-INTERVAL;VALUE=DURATION:PT1H
X-Robots-Tag:noindex
X-PUBLISHED-TTL:PT1H
BEGIN:VTIMEZONE
TZID:Europe/Lisbon
BEGIN:DAYLIGHT
TZOFFSETFROM:+0000
TZOFFSETTO:+0100
TZNAME:WEST
DTSTART:20240331T010000
END:DAYLIGHT
BEGIN:STANDARD
TZOFFSETFROM:+0100
TZOFFSETTO:+0000
TZNAME:WET
DTSTART:20241027T010000
END:STANDARD
BEGIN:DAYLIGHT
TZOFFSETFROM:+0000
TZOFFSETTO:+0100
TZNAME:WEST
DTSTART:20250330T010000
END:DAYLIGHT
BEGIN:STANDARD
TZOFFSETFROM:+0100
TZOFFSETTO:+0000
TZNAME:WET
DTSTART:20251026T010000
END:STANDARD
BEGIN:DAYLIGHT
TZOFFSETFROM:+0000
TZOFFSETTO:+0100
TZNAME:WEST
DTSTART:20260329T010000
END:DAYLIGHT
BEGIN:STANDARD
TZOFFSETFROM:+0100
TZOFFSETTO:+0000
TZNAME:WET
DTSTART:20261025T010000
END:STANDARD
END:VTIMEZONE
BEGIN:VEVENT
DTSTART;TZID=Europe/Lisbon:20251001T080000
DTEND;TZID=Europe/Lisbon:20251005T170000
DTSTAMP:20260420T131847
CREATED:20250812T131739Z
LAST-MODIFIED:20250812T144754Z
UID:10000030-1759305600-1759683600@kaksimedia.com
SUMMARY:#WCGalicia 2025
DESCRIPTION:A Kaksi Media vai estar no WordCamp Galicia 2025!O Freitas vai vestir a mítica bata galega dos voluntários\, enquanto o Pedro Fonseca marca presença como micro sponsor e participante\, desta vez\, sem bata\, mas com a mesma vontade de aprender\, partilhar e trocar ideias com a comunidade WordPress. \n\n\n\nMais um momento para estarmos perto de quem partilha o nosso entusiasmo pelo WordPress\, descobrir novidades\, inspirar e ser inspirado… e\, claro\, rever os nossos amigos galegos.
URL:https://kaksimedia.com/evento/wcgalicia-2025/
LOCATION:Facultade de Comunicación no Campus de Pontevedra da Universidade de Vigo\, Campus Universitario da Xunqueira\, s/n\, Pontevedra\, 36005\, Spain
ATTACH;FMTTYPE=image/webp:https://kaksimedia.com/wp-content/uploads/2025/08/muestra-img-blog.webp
END:VEVENT
END:VCALENDAR