BEGIN:VCALENDAR
VERSION:2.0
PRODID:-//Kaksi Media - ECPv6.15.20//NONSGML v1.0//EN
CALSCALE:GREGORIAN
METHOD:PUBLISH
X-ORIGINAL-URL:https://kaksimedia.com
X-WR-CALDESC:Eventos para Kaksi Media
REFRESH-INTERVAL;VALUE=DURATION:PT1H
X-Robots-Tag:noindex
X-PUBLISHED-TTL:PT1H
BEGIN:VTIMEZONE
TZID:Europe/Lisbon
BEGIN:DAYLIGHT
TZOFFSETFROM:+0000
TZOFFSETTO:+0100
TZNAME:WEST
DTSTART:20240331T010000
END:DAYLIGHT
BEGIN:STANDARD
TZOFFSETFROM:+0100
TZOFFSETTO:+0000
TZNAME:WET
DTSTART:20241027T010000
END:STANDARD
BEGIN:DAYLIGHT
TZOFFSETFROM:+0000
TZOFFSETTO:+0100
TZNAME:WEST
DTSTART:20250330T010000
END:DAYLIGHT
BEGIN:STANDARD
TZOFFSETFROM:+0100
TZOFFSETTO:+0000
TZNAME:WET
DTSTART:20251026T010000
END:STANDARD
BEGIN:DAYLIGHT
TZOFFSETFROM:+0000
TZOFFSETTO:+0100
TZNAME:WEST
DTSTART:20260329T010000
END:DAYLIGHT
BEGIN:STANDARD
TZOFFSETFROM:+0100
TZOFFSETTO:+0000
TZNAME:WET
DTSTART:20261025T010000
END:STANDARD
END:VTIMEZONE
BEGIN:VEVENT
DTSTART;TZID=Europe/Lisbon:20251009T193000
DTEND;TZID=Europe/Lisbon:20251009T213000
DTSTAMP:20260420T132101
CREATED:20250930T081114Z
LAST-MODIFIED:20250930T082158Z
UID:10000162-1760038200-1760045400@kaksimedia.com
SUMMARY:Acessibilidade - Cumprir a lei e incluir mais clientes - Sessão 2
DESCRIPTION:Nos dias 7 e 9 de outubro\, decorre mais uma iniciativa no âmbito da parceria entre a Kaksi Media e a Câmara Municipal do Porto\, dedicada a apoiar empresários e profissionais do comércio e serviços na criação de negócios mais acessíveis e inclusivos. \n\n\n\nCom a duração de 4 horas\, este workshop é dirigido a empresários\, gestores e técnicos que pretendem compreender melhor as obrigações legais\, os benefícios e as ferramentas para tornar os seus espaços e serviços mais acessíveis — tanto no ambiente físico como no digital. \n\n\n\nPorque participar? \n\n\n\n\nEsclareça as exigências legais e saiba se o seu negócio está abrangido.\n\n\n\nDescubra como a acessibilidade pode aumentar a base de clientes e reforçar a reputação.\n\n\n\nConheça boas práticas e ferramentas simples de aplicar.\n\n\n\nInicie o seu próprio plano de ação\, adaptado à realidade da sua empresa.\n\n\n\n\nPrograma: \n\n\n\n\nO que está em causa? (legislação\, exemplos práticos e casos do Porto)\n\n\n\nAcessibilidade digital (sites\, redes sociais e ferramentas de diagnóstico)\n\n\n\nPlano de ação e compromissos (autoavaliação\, comunicação e próximos passos)\n\n\n\n\n➡️ Um investimento de tempo que gera impacto real: mais inclusão\, mais clientes e mais futuro para o seu negócio.
URL:https://kaksimedia.com/evento/acessibilidade-cumprir-a-lei-e-incluir-mais-clientes-2/
ATTACH;FMTTYPE=image/jpeg:https://kaksimedia.com/wp-content/uploads/2025/06/zoom_call.jpg
END:VEVENT
END:VCALENDAR