BEGIN:VCALENDAR
VERSION:2.0
PRODID:-//Kaksi Media - ECPv6.15.20//NONSGML v1.0//EN
CALSCALE:GREGORIAN
METHOD:PUBLISH
X-WR-CALNAME:Kaksi Media
X-ORIGINAL-URL:https://kaksimedia.com
X-WR-CALDESC:Eventos para Kaksi Media
REFRESH-INTERVAL;VALUE=DURATION:PT1H
X-Robots-Tag:noindex
X-PUBLISHED-TTL:PT1H
BEGIN:VTIMEZONE
TZID:Europe/Lisbon
BEGIN:DAYLIGHT
TZOFFSETFROM:+0000
TZOFFSETTO:+0100
TZNAME:WEST
DTSTART:20240331T010000
END:DAYLIGHT
BEGIN:STANDARD
TZOFFSETFROM:+0100
TZOFFSETTO:+0000
TZNAME:WET
DTSTART:20241027T010000
END:STANDARD
BEGIN:DAYLIGHT
TZOFFSETFROM:+0000
TZOFFSETTO:+0100
TZNAME:WEST
DTSTART:20250330T010000
END:DAYLIGHT
BEGIN:STANDARD
TZOFFSETFROM:+0100
TZOFFSETTO:+0000
TZNAME:WET
DTSTART:20251026T010000
END:STANDARD
BEGIN:DAYLIGHT
TZOFFSETFROM:+0000
TZOFFSETTO:+0100
TZNAME:WEST
DTSTART:20260329T010000
END:DAYLIGHT
BEGIN:STANDARD
TZOFFSETFROM:+0100
TZOFFSETTO:+0000
TZNAME:WET
DTSTART:20261025T010000
END:STANDARD
END:VTIMEZONE
BEGIN:VEVENT
DTSTART;TZID=Europe/Lisbon:20251106T190000
DTEND;TZID=Europe/Lisbon:20251106T210000
DTSTAMP:20260420T130531
CREATED:20251010T194018Z
LAST-MODIFIED:20251010T194020Z
UID:10000165-1762455600-1762462800@kaksimedia.com
SUMMARY:Estuda ‘smarter’\, não ‘harder’: IA descomplicada para universitárias
DESCRIPTION:Já usaste o ChatGPT para preparar trabalhos? Já pediste ajuda a uma IA e a resposta foi… pouco interessante? Não estás sozinha!  \n\n\n\nEste workshop prático de 2 horas foi criado especialmente para ti\, estudante que quer deixar de lutar contra a tecnologia e começar a dominá-la. Vamos transformar a IA no teu assistente pessoal de estudos. \n\n\n\nSem termos técnicos complicados. Sem vergonha. Só técnicas práticas que vais usar já amanhã. \n\n\n\nPrepara-te para descobrir como estudar melhor em menos tempo\, organizar trabalhos sem stress e usar a IA de forma ética (sim\, os professores vão adorar-te na mesma).
URL:https://kaksimedia.com/evento/estuda-smarter-nao-harder-ia-descomplicada-para-universitarias/
ATTACH;FMTTYPE=image/webp:https://kaksimedia.com/wp-content/uploads/2025/10/Campus-Viseu-melhor-residencia-para-estudantes-em-viseu-1536x1024-1.webp
END:VEVENT
END:VCALENDAR