BEGIN:VCALENDAR
VERSION:2.0
PRODID:-//Kaksi Media - ECPv6.15.20//NONSGML v1.0//EN
CALSCALE:GREGORIAN
METHOD:PUBLISH
X-ORIGINAL-URL:https://kaksimedia.com
X-WR-CALDESC:Eventos para Kaksi Media
REFRESH-INTERVAL;VALUE=DURATION:PT1H
X-Robots-Tag:noindex
X-PUBLISHED-TTL:PT1H
BEGIN:VTIMEZONE
TZID:Europe/Lisbon
BEGIN:DAYLIGHT
TZOFFSETFROM:+0000
TZOFFSETTO:+0100
TZNAME:WEST
DTSTART:20240331T010000
END:DAYLIGHT
BEGIN:STANDARD
TZOFFSETFROM:+0100
TZOFFSETTO:+0000
TZNAME:WET
DTSTART:20241027T010000
END:STANDARD
BEGIN:DAYLIGHT
TZOFFSETFROM:+0000
TZOFFSETTO:+0100
TZNAME:WEST
DTSTART:20250330T010000
END:DAYLIGHT
BEGIN:STANDARD
TZOFFSETFROM:+0100
TZOFFSETTO:+0000
TZNAME:WET
DTSTART:20251026T010000
END:STANDARD
BEGIN:DAYLIGHT
TZOFFSETFROM:+0000
TZOFFSETTO:+0100
TZNAME:WEST
DTSTART:20260329T010000
END:DAYLIGHT
BEGIN:STANDARD
TZOFFSETFROM:+0100
TZOFFSETTO:+0000
TZNAME:WET
DTSTART:20261025T010000
END:STANDARD
END:VTIMEZONE
BEGIN:VEVENT
DTSTART;TZID=Europe/Lisbon:20251110T080000
DTEND;TZID=Europe/Lisbon:20251113T170000
DTSTAMP:20260420T120442
CREATED:20251031T144001Z
LAST-MODIFIED:20251031T144246Z
UID:10000167-1762761600-1763053200@kaksimedia.com
SUMMARY:Vamos à Web Summit 2025
DESCRIPTION:Finalmente vamos à Web Summit e vamos com o nosso parceiro tecnológico\, Kinsta. \n\n\n\nA Kaksi Media marca presença no maior evento de tecnologia e inovação da Europa para aprender com projetos inovadores\, descobrir novas tecnologias que estão a moldar o marketing digital e criar ligações com profissionais que partilham a mesma paixão pela comunicação e pelo crescimento dos negócios. \n\n\n\nSe também vais andar por lá\, diz qualquer coisa. Combinamos um café\, e prometemos não falar só de trabalho. \n\n\n\nDriving growth through e-commerce and storytelling.
URL:https://kaksimedia.com/evento/vamos-a-web-summit-2025/
ATTACH;FMTTYPE=image/jpeg:https://kaksimedia.com/wp-content/uploads/2025/10/websummit.jpg
END:VEVENT
BEGIN:VEVENT
DTSTART;TZID=Europe/Lisbon:20251111T080000
DTEND;TZID=Europe/Lisbon:20251111T170000
DTSTAMP:20260420T120442
CREATED:20250812T145257Z
LAST-MODIFIED:20250812T145301Z
UID:10000037-1762848000-1762880400@kaksimedia.com
SUMMARY:Newsletter
DESCRIPTION:Quinzenalmente\, vai receber um email contendo: \n\n\n\n\nTexto da semana com reflexões e ideias para te ajudar no dia a dia do teu negócio.\n\n\n\nMesa de leitura com a partilha de conteúdos de valor. Pode ser um livro que lemos\, um vídeo interessante\, ou até um relatório\n\n\n\nAconteceu… com dicas práticas e soluções de problemas reais.\n\n\n\nE ainda surpresas que só os subscritores da nossa newsletter irão receber.\n\n\n\n\nNão deixe que os nossos emails se percam na tua caixa de entrada. Marque-os como prioritários ou adicione o nosso endereço aos seus contactos para garantir que recebe todas as nossas dicas e sugestões.
URL:https://kaksimedia.com/evento/newsletter-5/2025-11-11/
ATTACH;FMTTYPE=image/png:https://kaksimedia.com/wp-content/uploads/2025/02/subscrever-newsletter.png
END:VEVENT
BEGIN:VEVENT
DTSTART;TZID=Europe/Lisbon:20251111T190000
DTEND;TZID=Europe/Lisbon:20251111T210000
DTSTAMP:20260420T120442
CREATED:20251116T194044Z
LAST-MODIFIED:20251116T194046Z
UID:10000168-1762887600-1762894800@kaksimedia.com
SUMMARY:Marketing para pequenos negócios e PME
DESCRIPTION:Módulo da Pós Graduação do ISLA Gaia \n\n\n\nEste módulo existe por uma razão simples. A maioria dos pequenos negócios comunica às cegas. Publica porque “tem de ser” faz anúncios sem estratégia copia o que os outros fazem e espera milagres. Não funciona. \n\n\n\nAqui puxamos o travão. Voltamos ao que interessa.O negócio primeiro. A estratégia depois. O conteúdo no fim. \n\n\n\nMostramos como é que um pequeno negócio pode comunicar com intenção sem perder tempo em táticas vazias. Como é que pode construir uma presença digital que atrai as pessoas certas e afasta as erradas. Como é que transforma marketing em impacto real no dia a dia de uma PME. \n\n\n\nFalamos de posicionamento storytelling conteúdo vendas métricas e decisão. Sem complicar. Sem modas. Sem a ilusão do “basta publicar todos os dias”. \n\n\n\nEste módulo é para quem quer aprender a pensar antes de escrever. Para quem quer comunicar como um negócio que sabe o que está a fazer. Para quem quer deixar de reagir e começar a liderar. \n\n\n\nÉ marketing aplicado à vida real das PME portuguesas. Simples direto prático. Exatamente como trabalhamos na Kaksi Media.
URL:https://kaksimedia.com/evento/marketing-para-pequenos-negocios-e-pme/2025-11-11/
ATTACH;FMTTYPE=image/webp:https://kaksimedia.com/wp-content/uploads/2025/11/ISLAGaia2526_Folheto__PG_GEAMPE-51946567.webp
END:VEVENT
END:VCALENDAR