BEGIN:VCALENDAR
VERSION:2.0
PRODID:-//Kaksi Media - ECPv6.15.20//NONSGML v1.0//EN
CALSCALE:GREGORIAN
METHOD:PUBLISH
X-ORIGINAL-URL:https://kaksimedia.com
X-WR-CALDESC:Eventos para Kaksi Media
REFRESH-INTERVAL;VALUE=DURATION:PT1H
X-Robots-Tag:noindex
X-PUBLISHED-TTL:PT1H
BEGIN:VTIMEZONE
TZID:Europe/Lisbon
BEGIN:DAYLIGHT
TZOFFSETFROM:+0000
TZOFFSETTO:+0100
TZNAME:WEST
DTSTART:20240331T010000
END:DAYLIGHT
BEGIN:STANDARD
TZOFFSETFROM:+0100
TZOFFSETTO:+0000
TZNAME:WET
DTSTART:20241027T010000
END:STANDARD
BEGIN:DAYLIGHT
TZOFFSETFROM:+0000
TZOFFSETTO:+0100
TZNAME:WEST
DTSTART:20250330T010000
END:DAYLIGHT
BEGIN:STANDARD
TZOFFSETFROM:+0100
TZOFFSETTO:+0000
TZNAME:WET
DTSTART:20251026T010000
END:STANDARD
BEGIN:DAYLIGHT
TZOFFSETFROM:+0000
TZOFFSETTO:+0100
TZNAME:WEST
DTSTART:20260329T010000
END:DAYLIGHT
BEGIN:STANDARD
TZOFFSETFROM:+0100
TZOFFSETTO:+0000
TZNAME:WET
DTSTART:20261025T010000
END:STANDARD
END:VTIMEZONE
BEGIN:VEVENT
DTSTART;TZID=Europe/Lisbon:20251115T080000
DTEND;TZID=Europe/Lisbon:20251115T170000
DTSTAMP:20260420T115755
CREATED:20250812T125717Z
LAST-MODIFIED:20250812T125825Z
UID:10000029-1763193600-1763226000@kaksimedia.com
SUMMARY:WordPress Day for Ecommerce
DESCRIPTION:O primeiro evento WordPress em Portugal dedicado\, em exclusivo\, ao comércio eletrónico.A 15 de novembro\, vamos reunir no Porto os especialistas que realmente sabem como transformar uma loja “mais uma” numa loja que todos conhecem.Para quem é?→ Proprietários de lojas online que querem crescer mais→ Empresários prontos para o digital→ Programadores especializados em ecommerce→ Gestores comerciais que querem novas ideiasAo longo dos anos\, na Kaksi Media\, ajudamos a criar e desenvolver inúmeros eventos da Comunidade WordPress. Este é mais um (mas não é apenas ‘mais um’). Do ponto de vista do conteúdo\, será\, eventualmente o mais relevante de sempre (com a exceção do WordCamp Europe 2022).
URL:https://kaksimedia.com/evento/wordpress-day-for-ecommerce/
LOCATION:atmosfera m\, Rua de Júlio Dinis 158\, Porto\, Porto\, 4050-323\, Portugal
ATTACH;FMTTYPE=image/jpeg:https://kaksimedia.com/wp-content/uploads/2025/08/1754043620286.jpeg
END:VEVENT
END:VCALENDAR