BEGIN:VCALENDAR
VERSION:2.0
PRODID:-//Kaksi Media - ECPv6.15.20//NONSGML v1.0//EN
CALSCALE:GREGORIAN
METHOD:PUBLISH
X-ORIGINAL-URL:https://kaksimedia.com
X-WR-CALDESC:Eventos para Kaksi Media
REFRESH-INTERVAL;VALUE=DURATION:PT1H
X-Robots-Tag:noindex
X-PUBLISHED-TTL:PT1H
BEGIN:VTIMEZONE
TZID:Europe/Lisbon
BEGIN:DAYLIGHT
TZOFFSETFROM:+0000
TZOFFSETTO:+0100
TZNAME:WEST
DTSTART:20240331T010000
END:DAYLIGHT
BEGIN:STANDARD
TZOFFSETFROM:+0100
TZOFFSETTO:+0000
TZNAME:WET
DTSTART:20241027T010000
END:STANDARD
BEGIN:DAYLIGHT
TZOFFSETFROM:+0000
TZOFFSETTO:+0100
TZNAME:WEST
DTSTART:20250330T010000
END:DAYLIGHT
BEGIN:STANDARD
TZOFFSETFROM:+0100
TZOFFSETTO:+0000
TZNAME:WET
DTSTART:20251026T010000
END:STANDARD
BEGIN:DAYLIGHT
TZOFFSETFROM:+0000
TZOFFSETTO:+0100
TZNAME:WEST
DTSTART:20260329T010000
END:DAYLIGHT
BEGIN:STANDARD
TZOFFSETFROM:+0100
TZOFFSETTO:+0000
TZNAME:WET
DTSTART:20261025T010000
END:STANDARD
END:VTIMEZONE
BEGIN:VEVENT
DTSTART;TZID=Europe/Lisbon:20251120T080000
DTEND;TZID=Europe/Lisbon:20251123T170000
DTSTAMP:20260420T113607
CREATED:20251023T084610Z
LAST-MODIFIED:20251116T192950Z
UID:10000166-1763625600-1763917200@kaksimedia.com
SUMMARY:A Kaksi Media vai a Itália
DESCRIPTION:De 21 a 23 de novembro estaremos no WordCamp Pisa 2025\, em mais um encontro da comunidade WordPress italiana (e europeia).Mais informações em pisa.wordcamp.org/2025
URL:https://kaksimedia.com/evento/a-kaksi-media-vai-a-italia/
ATTACH;FMTTYPE=image/webp:https://kaksimedia.com/wp-content/uploads/2025/10/Torre-di-Pisa.webp
END:VEVENT
END:VCALENDAR